BEGIN:VCALENDAR
VERSION:2.0
PRODID:-//Science Park Borås - ECPv6.15.20//NONSGML v1.0//EN
CALSCALE:GREGORIAN
METHOD:PUBLISH
X-WR-CALNAME:Science Park Borås
X-ORIGINAL-URL:https://scienceparkboras.se
X-WR-CALDESC:Händelser för Science Park Borås
REFRESH-INTERVAL;VALUE=DURATION:PT1H
X-Robots-Tag:noindex
X-PUBLISHED-TTL:PT1H
BEGIN:VTIMEZONE
TZID:Europe/Stockholm
BEGIN:DAYLIGHT
TZOFFSETFROM:+0100
TZOFFSETTO:+0200
TZNAME:CEST
DTSTART:20250330T010000
END:DAYLIGHT
BEGIN:STANDARD
TZOFFSETFROM:+0200
TZOFFSETTO:+0100
TZNAME:CET
DTSTART:20251026T010000
END:STANDARD
BEGIN:DAYLIGHT
TZOFFSETFROM:+0100
TZOFFSETTO:+0200
TZNAME:CEST
DTSTART:20260329T010000
END:DAYLIGHT
BEGIN:STANDARD
TZOFFSETFROM:+0200
TZOFFSETTO:+0100
TZNAME:CET
DTSTART:20261025T010000
END:STANDARD
BEGIN:DAYLIGHT
TZOFFSETFROM:+0100
TZOFFSETTO:+0200
TZNAME:CEST
DTSTART:20270328T010000
END:DAYLIGHT
BEGIN:STANDARD
TZOFFSETFROM:+0200
TZOFFSETTO:+0100
TZNAME:CET
DTSTART:20271031T010000
END:STANDARD
END:VTIMEZONE
BEGIN:VEVENT
DTSTART;TZID=Europe/Stockholm:20260506T093000
DTEND;TZID=Europe/Stockholm:20260506T170000
DTSTAMP:20260424T133221
CREATED:20260409T092901Z
LAST-MODIFIED:20260410T133718Z
UID:35908-1778059800-1778086800@scienceparkboras.se
SUMMARY:Automation Roadshow – företagsbesök för textilindustrin
DESCRIPTION:Följ med på en heldag i automationens framkant – industri och robotik i världsklass!\nVill ditt textilföretag bli bättre på automation? Nu har ni chansen! \nDen 6 maj arrangerar projektet Mikrofabriker SI ett inspirerande heldagsprogram i Västerås med exklusiva studiebesök hos ledande automationsaktörer i regionen samt vid Mälardalens universitet. Dagen ger dig möjlighet att uppleva hur automation och robotik omsätts i praktiken – från forskning och utbildning till industriell tillämpning i världsklass. \nUnder dagen får du: \n\nInblick i det senaste inom robotik\, automation och digitala tvillingar\nKonkreta exempel på hur företag stärker konkurrenskraft genom automation och underhåll\nMöjlighet att nätverka med industrin\, akademin och teknikexperter\nInspiration från verkliga case\, miljöer och lösningar bakom kulisserna\n\nRoadshowen riktar sig till såväl textil- som automationsföretag\, med syftet att knyta branscherna närmare och lära av varandra! \nKostnad\nAktiviteten är kostnadsfri. I gengäld behöver ett intyg om försumbart stöd skrivas på av firmatecknare då programmet genomförs inom ramen för EU-projektet Mikrofabriker SI. Intyg samt information gällande detta skickas ut till kontaktperson efter att anmälan är inskickad. \nMikrofabriker Systeminnovation är ett samarbete mellan Science Park Borås och Automation Region\, och medfinansieras av Europeiska regionala utvecklingsfonden via Tillväxtverket. \nProgrammet i korthet\n\nObservera att innehåll och tider kan justeras. Antalet platser är begränsat. \nFörmiddag \n\n09:30 – Uppsamling med buss centralt i Västerås\n10:00 – ABB Robotics Experience Center\n11:00 – Mälardalens universitet & Collaboration Center\n– Humanoidernas roll i framtidens industri\, Niklas Persson\n– Nätverksaktivitet\nLunch\n\nEftermiddag \n\n13:30 – Gemensam bussresa\n14:00 – Studiebesök Robot System Products\n14:45 – Gemensam bussresa\n15:15 – Studiebesök ICA Logistik\n– En automationsresa mot underhåll i världsklass\n17:00 – Buss tillbaka till uppsamlingsställe\n\n\nAnmäl dig här\n \nFrågor?\nVälkommen att kontakta Ellen Flybäck\, projektledare Mikrofabriker SI.
URL:https://scienceparkboras.se/event/automation-roadshow-foretagsbesok-for-textilindustrin/
LOCATION:Västerås
CATEGORIES:Externt
ATTACH;FMTTYPE=image/png:https://scienceparkboras.se/wp-content/uploads/2026/04/automation-roadshow-2026_SPB.png
END:VEVENT
END:VCALENDAR